BEGIN:VCALENDAR
VERSION:2.0
METHOD:PUBLISH
PRODID:-//Accessible Web Design//My Calendar//http://www.joedolson.com//v//EN';
BEGIN:VEVENT
UID:5-5
LOCATION:
SUMMARY:NBER SI 2023
DTSTAMP:20230717
ORGANIZER;CN=mpf-lab.net:MAILTO:macropub.lab@gmail.com
DTSTART:20230717
DTEND:20230722
CATEGORIES:General
URL;VALUE=URI:https://mpf-lab.net/index.php/mc-events/nber-si-2023/?mc_id=5
DESCRIPTION;ENCODING=QUOTED-PRINTABLE:
X-FUNAMBOL-ALLDAY: 1
X-MICROSOFT-CDO-ALLDAYEVENT: TRUE

END:VEVENT
END:VCALENDAR