BEGIN:VCALENDAR
VERSION:2.0
METHOD:PUBLISH
PRODID:-//Accessible Web Design//My Calendar//http://www.joedolson.com//v//EN';
BEGIN:VEVENT
UID:17-16
LOCATION:
SUMMARY:Australian Public Economics Exchange (APEX) 2024
DTSTAMP:20240528T000000
ORGANIZER;CN=mpf-lab.net:MAILTO:macropub.lab@gmail.com
DTSTART:20240528T000000
DTEND:20240529T010000
CATEGORIES:General
URL;VALUE=URI:https://mpf-lab.net/index.php/mc-events/australian-public-economics-exchange-apex-2024/?mc_id=17
DESCRIPTION;ENCODING=QUOTED-PRINTABLE:
END:VEVENT
END:VCALENDAR